BEGIN:VCALENDAR
VERSION:2.0
PRODID:-//IndiOdyssey Yoga - ECPv6.15.20//NONSGML v1.0//EN
CALSCALE:GREGORIAN
METHOD:PUBLISH
X-WR-CALNAME:IndiOdyssey Yoga
X-ORIGINAL-URL:https://indiodysseyyoga.com
X-WR-CALDESC:Events for IndiOdyssey Yoga
REFRESH-INTERVAL;VALUE=DURATION:PT1H
X-Robots-Tag:noindex
X-PUBLISHED-TTL:PT1H
BEGIN:VTIMEZONE
TZID:UTC
BEGIN:STANDARD
TZOFFSETFROM:+0000
TZOFFSETTO:+0000
TZNAME:UTC
DTSTART:20210101T000000
END:STANDARD
END:VTIMEZONE
BEGIN:VEVENT
DTSTART;VALUE=DATE:20221030
DTEND;VALUE=DATE:20221114
DTSTAMP:20260424T040814
CREATED:20210508T195121Z
LAST-MODIFIED:20210508T195121Z
UID:850-1667088000-1668383999@indiodysseyyoga.com
SUMMARY:Horse Trekking Across Rajasthan
DESCRIPTION:Join a tribe of adventure warriors as we experience India like never before!  \nHighlights of this 14-day tour are horse trekking in Rajasthan and the Pushkar Camel Festival with a tour through Jaipur\, Jodhpur\, Udaipur\, Vrindavan\, and Agra. \nInterested in experiencing India at a totally different level?  This tour is for you! \nFor more info\, click on the link below: \nhttps://www.wetravel.com/trips/horse-trekking-across-rajasthan-gayle-lawrence-pali-03658521 \n 
URL:https://indiodysseyyoga.com/event/horse-trekking-across-rajasthan/
LOCATION:IndiOdyssey Tours\, Ranthambore\, India
END:VEVENT
END:VCALENDAR